BEGIN:VCALENDAR
VERSION:2.0
PRODID:-//Pennsbury Manor - ECPv6.14.2//NONSGML v1.0//EN
CALSCALE:GREGORIAN
METHOD:PUBLISH
X-ORIGINAL-URL:https://www.pennsburymanor.org
X-WR-CALDESC:Events for Pennsbury Manor
REFRESH-INTERVAL;VALUE=DURATION:PT1H
X-Robots-Tag:noindex
X-PUBLISHED-TTL:PT1H
BEGIN:VTIMEZONE
TZID:America/New_York
BEGIN:DAYLIGHT
TZOFFSETFROM:-0500
TZOFFSETTO:-0400
TZNAME:EDT
DTSTART:20260308T070000
END:DAYLIGHT
BEGIN:STANDARD
TZOFFSETFROM:-0400
TZOFFSETTO:-0500
TZNAME:EST
DTSTART:20261101T060000
END:STANDARD
END:VTIMEZONE
BEGIN:VEVENT
DTSTART;TZID=America/New_York:20260802T130000
DTEND;TZID=America/New_York:20260802T160000
DTSTAMP:20260421T100521
CREATED:20251217T185126Z
LAST-MODIFIED:20251217T185126Z
UID:7800-1785675600-1785686400@www.pennsburymanor.org
SUMMARY:Historic Trade Demonstrations
DESCRIPTION:Come and witness some of the trades and crafts that were done at Pennsbury Manor during the 17th century.
URL:https://www.pennsburymanor.org/event/historic-trade-demonstrations-22/
LOCATION:Pennsbury Manor\, 400 Pennsbury Memorial Road\, Morrisville\, PA\, 19067\, United States
END:VEVENT
BEGIN:VEVENT
DTSTART;TZID=America/New_York:20260809T130000
DTEND;TZID=America/New_York:20260809T160000
DTSTAMP:20260421T100521
CREATED:20251217T185239Z
LAST-MODIFIED:20251217T185239Z
UID:7802-1786280400-1786291200@www.pennsburymanor.org
SUMMARY:Living History Theater: Pirates in the Tavern
DESCRIPTION:Summer 1700: Pirates are all anybody can talk about! Join us and explore all things pirate this day! Meet some of the real pirates ad townspeople who have walked into a Philadelphia Tavern.
URL:https://www.pennsburymanor.org/event/living-history-theater-pirates-in-the-tavern/
LOCATION:Pennsbury Manor\, 400 Pennsbury Memorial Road\, Morrisville\, PA\, 19067\, United States
END:VEVENT
BEGIN:VEVENT
DTSTART;TZID=America/New_York:20260816T130000
DTEND;TZID=America/New_York:20260816T160000
DTSTAMP:20260421T100521
CREATED:20251217T185521Z
LAST-MODIFIED:20251217T185521Z
UID:7803-1786885200-1786896000@www.pennsburymanor.org
SUMMARY:Open-Hearth Cooking: Preserving the Harvest
DESCRIPTION:The cooks preserve the harvest for the winter to come.
URL:https://www.pennsburymanor.org/event/open-hearth-cooking-preserving-the-harvest-4/
LOCATION:Pennsbury Manor\, 400 Pennsbury Memorial Road\, Morrisville\, PA\, 19067\, United States
END:VEVENT
BEGIN:VEVENT
DTSTART;TZID=America/New_York:20260823T130000
DTEND;TZID=America/New_York:20260823T160000
DTSTAMP:20260421T100521
CREATED:20251217T185637Z
LAST-MODIFIED:20251217T185637Z
UID:7804-1787490000-1787500800@www.pennsburymanor.org
SUMMARY:Brewing & Garden Highlights
DESCRIPTION:Explore and experience the recipes and plants that fed the early residents of Pennsylvania.
URL:https://www.pennsburymanor.org/event/brewing-garden-highlights/
LOCATION:Pennsbury Manor\, 400 Pennsbury Memorial Road\, Morrisville\, PA\, 19067\, United States
END:VEVENT
BEGIN:VEVENT
DTSTART;TZID=America/New_York:20260830T130000
DTEND;TZID=America/New_York:20260830T160000
DTSTAMP:20260421T100521
CREATED:20251217T185742Z
LAST-MODIFIED:20251217T185742Z
UID:7805-1788094800-1788105600@www.pennsburymanor.org
SUMMARY:Animals at Pennsbury
DESCRIPTION:Meet the furry\, fuzzy\, and feathered inhabitants at Pennsbury\, and discover the important role their 17th century predecessors played in daily life.
URL:https://www.pennsburymanor.org/event/animals-at-pennsbury-13/
LOCATION:Pennsbury Manor\, 400 Pennsbury Memorial Road\, Morrisville\, PA\, 19067\, United States
END:VEVENT
END:VCALENDAR