BEGIN:VCALENDAR
VERSION:2.0
PRODID:-//Pennsbury Manor - ECPv6.14.2//NONSGML v1.0//EN
CALSCALE:GREGORIAN
METHOD:PUBLISH
X-WR-CALNAME:Pennsbury Manor
X-ORIGINAL-URL:https://www.pennsburymanor.org
X-WR-CALDESC:Events for Pennsbury Manor
REFRESH-INTERVAL;VALUE=DURATION:PT1H
X-Robots-Tag:noindex
X-PUBLISHED-TTL:PT1H
BEGIN:VTIMEZONE
TZID:America/New_York
BEGIN:DAYLIGHT
TZOFFSETFROM:-0500
TZOFFSETTO:-0400
TZNAME:EDT
DTSTART:20260308T070000
END:DAYLIGHT
BEGIN:STANDARD
TZOFFSETFROM:-0400
TZOFFSETTO:-0500
TZNAME:EST
DTSTART:20261101T060000
END:STANDARD
END:VTIMEZONE
BEGIN:VEVENT
DTSTART;TZID=America/New_York:20260704T100000
DTEND;TZID=America/New_York:20260704T170000
DTSTAMP:20260419T180000
CREATED:20251217T183135Z
LAST-MODIFIED:20251217T183135Z
UID:7794-1783159200-1783184400@www.pennsburymanor.org
SUMMARY:July 4th - Open To The Public
DESCRIPTION:
URL:https://www.pennsburymanor.org/event/july-4th-open-to-the-public/
LOCATION:Pennsbury Manor\, 400 Pennsbury Memorial Road\, Morrisville\, PA\, 19067\, United States
END:VEVENT
BEGIN:VEVENT
DTSTART;TZID=America/New_York:20260705T130000
DTEND;TZID=America/New_York:20260705T160000
DTSTAMP:20260419T180000
CREATED:20251217T183253Z
LAST-MODIFIED:20251217T183352Z
UID:7795-1783256400-1783267200@www.pennsburymanor.org
SUMMARY:Historic Trade Demonstrations
DESCRIPTION:Come and witness some of the trades and crafts that were done at Pennsbury Manor during the 17th century.
URL:https://www.pennsburymanor.org/event/historic-trade-demonstrations-21/
LOCATION:Pennsbury Manor\, 400 Pennsbury Memorial Road\, Morrisville\, PA\, 19067\, United States
END:VEVENT
BEGIN:VEVENT
DTSTART;TZID=America/New_York:20260712T130000
DTEND;TZID=America/New_York:20260712T160000
DTSTAMP:20260419T180000
CREATED:20251217T183540Z
LAST-MODIFIED:20251217T183540Z
UID:7796-1783861200-1783872000@www.pennsburymanor.org
SUMMARY:Living History Theater: Seed of a Nation
DESCRIPTION:
URL:https://www.pennsburymanor.org/event/living-history-theater-seed-of-a-nation/
LOCATION:Pennsbury Manor\, 400 Pennsbury Memorial Road\, Morrisville\, PA\, 19067\, United States
END:VEVENT
BEGIN:VEVENT
DTSTART;TZID=America/New_York:20260713T090000
DTEND;TZID=America/New_York:20260717T160000
DTSTAMP:20260419T180000
CREATED:20251217T183921Z
LAST-MODIFIED:20251217T183921Z
UID:7798-1783933200-1784304000@www.pennsburymanor.org
SUMMARY:Colonial Kids Camp
DESCRIPTION:$265/members\n$280/non-members \nAfter care available from 4pm – 5pm for an additional $30 per day. \nColonial Kids Camp is for children ages 7-9. Reservations are required and space is limited. Email info@pennsburymanor.org to secure your spot. \nIn Penn’s time\, food and medicine were grown in a garden\, the major highway to Philadelphia was the Delaware River\, and clothing was hand-spun out of wool. Our immersive summer camp promises an unforgettable blend of education\, fun\, and hands-on exploration for young history enthusiasts. \nOur expert educators bring history to life through engaging activities. Campers will try their hand at 17th-century games\, master the art of quill writing\, and even meet some of our friendly farm animals. Learning has never been this much fun! At the end of the week\, parents and caregivers are invited for a camper-led living history tour of the site.
URL:https://www.pennsburymanor.org/event/colonial-kids-camp/
LOCATION:PA
END:VEVENT
BEGIN:VEVENT
DTSTART;TZID=America/New_York:20260719T130000
DTEND;TZID=America/New_York:20260719T160000
DTSTAMP:20260419T180000
CREATED:20251217T183658Z
LAST-MODIFIED:20251217T183658Z
UID:7797-1784466000-1784476800@www.pennsburymanor.org
SUMMARY:Open-Hearth Cooking: White Meats: Cheese and Dairy
DESCRIPTION:The cooks will demonstrate 17th century receipts using dairy products.
URL:https://www.pennsburymanor.org/event/open-hearth-cooking-white-meats-cheese-and-dairy-2/
LOCATION:Pennsbury Manor\, 400 Pennsbury Memorial Road\, Morrisville\, PA\, 19067\, United States
END:VEVENT
BEGIN:VEVENT
DTSTART;TZID=America/New_York:20260726T130000
DTEND;TZID=America/New_York:20260726T160000
DTSTAMP:20260419T180000
CREATED:20251217T184303Z
LAST-MODIFIED:20251217T184303Z
UID:7799-1785070800-1785081600@www.pennsburymanor.org
SUMMARY:Beer Brewing and Garden Highlights
DESCRIPTION:Explore and experience the recipes and plants that fed the early residents of Pennsylvania.
URL:https://www.pennsburymanor.org/event/beer-brewing-and-garden-highlights-17/
LOCATION:Pennsbury Manor\, 400 Pennsbury Memorial Road\, Morrisville\, PA\, 19067\, United States
END:VEVENT
END:VCALENDAR