BEGIN:VCALENDAR
VERSION:2.0
PRODID:-//Pennsbury Manor - ECPv6.14.2//NONSGML v1.0//EN
CALSCALE:GREGORIAN
METHOD:PUBLISH
X-WR-CALNAME:Pennsbury Manor
X-ORIGINAL-URL:https://www.pennsburymanor.org
X-WR-CALDESC:Events for Pennsbury Manor
REFRESH-INTERVAL;VALUE=DURATION:PT1H
X-Robots-Tag:noindex
X-PUBLISHED-TTL:PT1H
BEGIN:VTIMEZONE
TZID:America/New_York
BEGIN:DAYLIGHT
TZOFFSETFROM:-0500
TZOFFSETTO:-0400
TZNAME:EDT
DTSTART:20260308T070000
END:DAYLIGHT
BEGIN:STANDARD
TZOFFSETFROM:-0400
TZOFFSETTO:-0500
TZNAME:EST
DTSTART:20261101T060000
END:STANDARD
END:VTIMEZONE
BEGIN:VEVENT
DTSTART;TZID=America/New_York:20260503T130000
DTEND;TZID=America/New_York:20260503T160000
DTSTAMP:20260419T123837
CREATED:20251217T180702Z
LAST-MODIFIED:20260414T131817Z
UID:7784-1777813200-1777824000@www.pennsburymanor.org
SUMMARY:Meet The Lenape
DESCRIPTION:** SPECIAL EVENT ** \nTribal members of the Federally recognized Delaware Tribe of Indians will be on site to tell the story of the Lenape. \nAnd\, with spring well underway\, we will also begin shearing our sheep. This annual process helps the flock get ready for the summer as well as keeps our spinners busy year round. Hand shearing demonstrations will take place between 1-4pm.
URL:https://www.pennsburymanor.org/event/historic-trade-demonstrations-19/
LOCATION:Pennsbury Manor\, 400 Pennsbury Memorial Road\, Morrisville\, PA\, 19067\, United States
END:VEVENT
BEGIN:VEVENT
DTSTART;TZID=America/New_York:20260510T130000
DTEND;TZID=America/New_York:20260510T160000
DTSTAMP:20260419T123837
CREATED:20251217T180911Z
LAST-MODIFIED:20260414T132003Z
UID:7785-1778418000-1778428800@www.pennsburymanor.org
SUMMARY:Living History Theater: Women’s Monthly Meeting
DESCRIPTION:Celebrate Mother’s Day by learning about the issues facing 17th century Quaker women.
URL:https://www.pennsburymanor.org/event/living-history-theater-womens-monthly-meeting/
LOCATION:Pennsbury Manor\, 400 Pennsbury Memorial Road\, Morrisville\, PA\, 19067\, United States
END:VEVENT
BEGIN:VEVENT
DTSTART;TZID=America/New_York:20260517T130000
DTEND;TZID=America/New_York:20260517T160000
DTSTAMP:20260419T123837
CREATED:20251217T181127Z
LAST-MODIFIED:20251217T181127Z
UID:7786-1779022800-1779033600@www.pennsburymanor.org
SUMMARY:Open-Hearth Cooking: 17th Century Dinner
DESCRIPTION:The cooks will prepare and present a complete seasonal dinner meal as it would have been served to William Penn.
URL:https://www.pennsburymanor.org/event/open-hearth-cooking-17th-century-dinner/
LOCATION:Pennsbury Manor\, 400 Pennsbury Memorial Road\, Morrisville\, PA\, 19067\, United States
END:VEVENT
BEGIN:VEVENT
DTSTART;TZID=America/New_York:20260524T130000
DTEND;TZID=America/New_York:20260524T160000
DTSTAMP:20260419T123837
CREATED:20251217T181412Z
LAST-MODIFIED:20251217T181412Z
UID:7787-1779627600-1779638400@www.pennsburymanor.org
SUMMARY:Beer Brewing & Garden Highlights
DESCRIPTION:Explore and experience the recipes and plants that fed the early residents of Pennsylvania.
URL:https://www.pennsburymanor.org/event/beer-brewing-garden-highlights-24/
LOCATION:PA
END:VEVENT
BEGIN:VEVENT
DTSTART;TZID=America/New_York:20260531T130000
DTEND;TZID=America/New_York:20260531T160000
DTSTAMP:20260419T123837
CREATED:20251217T181549Z
LAST-MODIFIED:20251217T181549Z
UID:7788-1780232400-1780243200@www.pennsburymanor.org
SUMMARY:Animals at Pennsbury Manor
DESCRIPTION:Meet the furry\, fuzzy\, and feathered inhabitants at Pennsbury\, and discover the important role their 17th century predecessors played in daily life.
URL:https://www.pennsburymanor.org/event/animals-at-pennsbury-manor/
LOCATION:Pennsbury Manor\, 400 Pennsbury Memorial Road\, Morrisville\, PA\, 19067\, United States
END:VEVENT
END:VCALENDAR