BEGIN:VCALENDAR
VERSION:2.0
PRODID:-//Pennsbury Manor - ECPv6.14.2//NONSGML v1.0//EN
CALSCALE:GREGORIAN
METHOD:PUBLISH
X-WR-CALNAME:Pennsbury Manor
X-ORIGINAL-URL:https://www.pennsburymanor.org
X-WR-CALDESC:Events for Pennsbury Manor
REFRESH-INTERVAL;VALUE=DURATION:PT1H
X-Robots-Tag:noindex
X-PUBLISHED-TTL:PT1H
BEGIN:VTIMEZONE
TZID:America/New_York
BEGIN:DAYLIGHT
TZOFFSETFROM:-0500
TZOFFSETTO:-0400
TZNAME:EDT
DTSTART:20240310T070000
END:DAYLIGHT
BEGIN:STANDARD
TZOFFSETFROM:-0400
TZOFFSETTO:-0500
TZNAME:EST
DTSTART:20241103T060000
END:STANDARD
END:VTIMEZONE
BEGIN:VEVENT
DTSTART;TZID=America/New_York:20241205T180000
DTEND;TZID=America/New_York:20241205T210000
DTSTAMP:20260419T145109
CREATED:20240711T160359Z
LAST-MODIFIED:20241104T161731Z
UID:7506-1733421600-1733432400@www.pennsburymanor.org
SUMMARY:Holly Nights: December 5th and 6th
DESCRIPTION:Let your holiday spirit burn bright and experience the enchantment of Pennsbury Manor by candlelight. This joyous feast for the senses offers crackling fires\, hot-mulled cider\, dancing shadows\, and the merry sounds of carolers strolling the grounds. Step back in time with the glow of candles and lanterns\, the bustle of colonial craftspeople\, and the good cheer of noels from carolers.  \nSo\, gather friends and family and come toss a green sprig on our yule log bonfire and make your wish for the new year! \nGet your tickets today! Advance purchase is strongly recommended as tickets at the door are limited. \nConsider becoming a member of Pennsbury Manor LIMITED TIME OFFER: Purchase a $65 Family Membership here and get free admission for two adults and all kids under 18 at Holly Nights! This offer also includes fun members-only events year-round. \nFAQs\nCan I buy tickets on site the day of the event? \nA limited number of tickets will be available day-of; however\, we strongly recommend purchasing tickets online. \n  \nWill the event be indoors or outdoors? \nThere will be both indoors and outdoors activities. Please dress in layers for cold weather as you will spend a good amount of time outside. \n  \nIs this event wheelchair accessible? \nYes. \n  \nIs it easy to see where you are walking? \nThe paths are lined with lanterns\, but if you are concerned about low visibility in darkness you may bring a flashlight. \n  \nDo you accept cash or credit? \nTickets at the door and the gift shop take cash or credit. Please bring cash if you would like to purchase baked goods\, raffle items\, cider\, holly\, and more. \n  \nIs there a difference between both nights? \nThe only difference between the nights is the music group schedule. The Men of Harmony will perform both nights. \n  \nHow do I use my membership to get into Holly Nights? \nOn the night you’d like to attend\, there will be a table designated for presales & members. We will check you in there. You may only use your membership to attend one of the two nights. \n  \nHow many admissions do I get with my membership? \n\nIndividual & Individual Passport level members receive 1 adult admission.\nDual level members receive 2 adult admissions.\nFamily & Family Passport level members receive 2 adult admissions & admissions for children under 18.\nFamily Grounds Pass members do not receive free admission to Holly Nights.\n\n  \nIf I bought tickets for a certain night and realize I cannot attend\, can I use the tickets for the other night? \nNo\, you may only attend the night for which you purchased admission. \n  \nIs the event rain or shine? \nYes. \n  \nAre there other nights available besides the 5th & 6th? \nNo\, Holly Nights only lasts two nights. We encourage those who cannot attend to sign up for Candlelight Tours later in December. Our decorations will stay up\, so you can see the Manor House as it was for Holly Nights (with fewer crowds). \n 
URL:https://www.pennsburymanor.org/event/holly-nights-december-5th-and-6th/
LOCATION:Pennsbury Manor\, 400 Pennsbury Memorial Road\, Morrisville\, PA\, 19067\, United States
CATEGORIES:Featured
ATTACH;FMTTYPE=image/png:https://www.pennsburymanor.org/wp-content/uploads/2024/07/Untitled-design-8.png
END:VEVENT
BEGIN:VEVENT
DTSTART;TZID=America/New_York:20241206T180000
DTEND;TZID=America/New_York:20241206T210000
DTSTAMP:20260419T145109
CREATED:20240711T160508Z
LAST-MODIFIED:20241104T161642Z
UID:7507-1733508000-1733518800@www.pennsburymanor.org
SUMMARY:Holly Nights: December 5th and 6th
DESCRIPTION:Let your holiday spirit burn bright and experience the enchantment of Pennsbury Manor by candlelight. This joyous feast for the senses offers crackling fires\, hot-mulled cider\, dancing shadows\, and the merry sounds of carolers strolling the grounds. Step back in time with the glow of candles and lanterns\, the bustle of colonial craftspeople\, and the good cheer of noels from carolers. \nSo\, gather friends and family and come toss a green sprig on our yule log bonfire and make your wish for the new year! \nGet your tickets today! Advance purchase is strongly recommended as tickets at the door are limited. \nConsider becoming a member of Pennsbury Manor LIMITED TIME OFFER: Purchase a $65 Family Membership here and get free admission for two adults and all kids under 18 at Holly Nights! This offer also includes fun members-only events year-round. \nFAQs\nCan I buy tickets on site the day of the event? \nA limited number of tickets will be available day-of; however\, we strongly recommend purchasing tickets online. \n  \nWill the event be indoors or outdoors? \nThere will be both indoors and outdoors activities. Please dress in layers for cold weather as you will spend a good amount of time outside. \n  \nIs this event wheelchair accessible? \nYes. \n  \nIs it easy to see where you are walking? \nThe paths are lined with lanterns\, but if you are concerned about low visibility in darkness you may bring a flashlight. \n  \nDo you accept cash or credit? \nTickets at the door and the gift shop take cash or credit. Please bring cash if you would like to purchase baked goods\, raffle items\, cider\, holly\, and more. \n  \nIs there a difference between both nights? \nThe only difference between the nights is the music group schedule. The Men of Harmony will perform both nights. \n  \nHow do I use my membership to get into Holly Nights? \nOn the night you’d like to attend\, there will be a table designated for presales & members. We will check you in there. You may only use your membership to attend one of the two nights. \n  \nHow many admissions do I get with my membership? \n\nIndividual & Individual Passport level members receive 1 adult admission.\nDual level members receive 2 adult admissions.\nFamily & Family Passport level members receive 2 adult admissions & admissions for children under 18.\nFamily Grounds Pass members do not receive free admission to Holly Nights.\n\n  \nIf I bought tickets for a certain night and realize I cannot attend\, can I use the tickets for the other night? \nNo\, you may only attend the night for which you purchased admission. \n  \nIs the event rain or shine? \nYes. \n  \nAre there other nights available besides the 5th & 6th? \nNo\, Holly Nights only lasts two nights. We encourage those who cannot attend to sign up for Candlelight Tours later in December. Our decorations will stay up\, so you can see the Manor House as it was for Holly Nights (with fewer crowds). \n 
URL:https://www.pennsburymanor.org/event/holly-nights-december-5th-and-6th-2/
LOCATION:Pennsbury Manor\, 400 Pennsbury Memorial Road\, Morrisville\, PA\, 19067\, United States
ATTACH;FMTTYPE=image/png:https://www.pennsburymanor.org/wp-content/uploads/2024/07/Untitled-design-8.png
END:VEVENT
BEGIN:VEVENT
DTSTART;TZID=America/New_York:20241213T150000
DTEND;TZID=America/New_York:20241213T180000
DTSTAMP:20260419T145109
CREATED:20240711T160651Z
LAST-MODIFIED:20241209T161058Z
UID:7508-1734102000-1734112800@www.pennsburymanor.org
SUMMARY:Candlelight Tours
DESCRIPTION:Experience old-world holiday magic with Candlelight Tours at Pennsbury Manor\, William Penn’s country estate in Bucks County!\n\nWander through the ornately decorated Manor House and step back in time to a 17th century holiday feast hosted by William & Hannah Penn.\n\nAdmission is $9 adults\, $7 seniors\, and $5 children.\n\nTours are offered Friday\, 12/13; Saturday\, 12/14 Friday\, 12/27; & Saturday\, 12/28 at 3 PM\, 5 PM\, & 6 PM.\n\nReservations are strongly encouraged as tours are limited to 25 visitors per tour. Reserve your tour by emailing info@pennsburymanor.org or calling 215-946-0400.
URL:https://www.pennsburymanor.org/event/candlelight-tours-5/
LOCATION:Pennsbury Manor\, 400 Pennsbury Memorial Road\, Morrisville\, PA\, 19067\, United States
END:VEVENT
BEGIN:VEVENT
DTSTART;TZID=America/New_York:20241214T140000
DTEND;TZID=America/New_York:20241214T190000
DTSTAMP:20260419T145109
CREATED:20241209T201134Z
LAST-MODIFIED:20241209T201134Z
UID:7584-1734184800-1734202800@www.pennsburymanor.org
SUMMARY:Historic Holiday Tour
DESCRIPTION:For the first time ever\, we are partnering with historic sites in Lower Bucks County for a full day of 17th & 18th century historic holiday magic!\n\nOn Saturday\, December 14th join Historic Fallsington\, Bolton Mansion\, Historic Summerseat\, and Pennsbury Manor through a holiday driving tour of Lower Bucks County and enjoy the sights and sounds of a bygone era.\n\nExperience the charm of Bucks County holidays gone by with tours of Historic Fallsington\, Inc. and Historic Summerseat from 2-5pm.\n\nThen\, delight in history illuminated with special candlelight tours at Historic Bolton Mansion and Pennsbury Manor from 3-7pm.\n\nTickets for the tour must be purchased in advance here: https://ticketstripe.com/historic-holiday-tour\n\nAdults: $30\, Youth: $15\, Kids under 3: Free!\nDon’t miss out on experiencing all the heartwarming holiday history Bucks County has to offer!
URL:https://www.pennsburymanor.org/event/historic-holiday-tour/
LOCATION:PA
END:VEVENT
BEGIN:VEVENT
DTSTART;TZID=America/New_York:20241214T150000
DTEND;TZID=America/New_York:20241214T180000
DTSTAMP:20260419T145109
CREATED:20240711T160853Z
LAST-MODIFIED:20241209T161151Z
UID:7509-1734188400-1734199200@www.pennsburymanor.org
SUMMARY:Candlelight Tours
DESCRIPTION:Experience old-world holiday magic with Candlelight Tours at Pennsbury Manor\, William Penn’s country estate in Bucks County!\n\nWander through the ornately decorated Manor House and step back in time to a 17th century holiday feast hosted by William & Hannah Penn.\n\nAdmission is $9 adults\, $7 seniors\, and $5 children.\n\nTours are offered Friday\, 12/13; Saturday\, 12/14 Friday\, 12/27; & Saturday\, 12/28 at 3 PM\, 5 PM\, & 6 PM.\n\nReservations are strongly encouraged as tours are limited to 25 visitors per tour. Reserve your tour by emailing info@pennsburymanor.org or calling 215-946-0400.
URL:https://www.pennsburymanor.org/event/candlelight-tours-6/
LOCATION:Pennsbury Manor\, 400 Pennsbury Memorial Road\, Morrisville\, PA\, 19067\, United States
END:VEVENT
BEGIN:VEVENT
DTSTART;TZID=America/New_York:20241224T000000
DTEND;TZID=America/New_York:20241224T000000
DTSTAMP:20260419T145109
CREATED:20240711T161119Z
LAST-MODIFIED:20240711T161119Z
UID:7512-1734998400-1734998400@www.pennsburymanor.org
SUMMARY:Site Closed  for Christmas
DESCRIPTION:
URL:https://www.pennsburymanor.org/event/site-closed-for-christmas/
LOCATION:PA
END:VEVENT
BEGIN:VEVENT
DTSTART;TZID=America/New_York:20241225T000000
DTEND;TZID=America/New_York:20241225T000000
DTSTAMP:20260419T145109
CREATED:20240711T161148Z
LAST-MODIFIED:20240711T161148Z
UID:7513-1735084800-1735084800@www.pennsburymanor.org
SUMMARY:Site Closed  for Christmas
DESCRIPTION:
URL:https://www.pennsburymanor.org/event/site-closed-for-christmas-2/
LOCATION:PA
END:VEVENT
BEGIN:VEVENT
DTSTART;TZID=America/New_York:20241227T150000
DTEND;TZID=America/New_York:20241227T180000
DTSTAMP:20260419T145109
CREATED:20240711T161003Z
LAST-MODIFIED:20241209T161256Z
UID:7510-1735311600-1735322400@www.pennsburymanor.org
SUMMARY:Candlelight Tours
DESCRIPTION:Experience old-world holiday magic with Candlelight Tours at Pennsbury Manor\, William Penn’s country estate in Bucks County!\n\nWander through the ornately decorated Manor House and step back in time to a 17th century holiday feast hosted by William & Hannah Penn.\n\nAdmission is $9 adults\, $7 seniors\, and $5 children.\n\nTours are offered Friday\, 12/13; Saturday\, 12/14 Friday\, 12/27; & Saturday\, 12/28 at 3 PM\, 5 PM\, & 6 PM.\n\nReservations are strongly encouraged as tours are limited to 25 visitors per tour. Reserve your tour by emailing info@pennsburymanor.org or calling 215-946-0400.
URL:https://www.pennsburymanor.org/event/candlelight-tours-7/
LOCATION:Pennsbury Manor\, 400 Pennsbury Memorial Road\, Morrisville\, PA\, 19067\, United States
END:VEVENT
BEGIN:VEVENT
DTSTART;TZID=America/New_York:20241228T150000
DTEND;TZID=America/New_York:20241228T180000
DTSTAMP:20260419T145109
CREATED:20240711T161042Z
LAST-MODIFIED:20241209T161352Z
UID:7511-1735398000-1735408800@www.pennsburymanor.org
SUMMARY:Candlelight Tours
DESCRIPTION:Experience old-world holiday magic with Candlelight Tours at Pennsbury Manor\, William Penn’s country estate in Bucks County!\n\nWander through the ornately decorated Manor House and step back in time to a 17th century holiday feast hosted by William & Hannah Penn.\n\nAdmission is $9 adults\, $7 seniors\, and $5 children.\n\nTours are offered Friday\, 12/13; Saturday\, 12/14 Friday\, 12/27; & Saturday\, 12/28 at 3 PM\, 5 PM\, & 6 PM.\n\nReservations are strongly encouraged as tours are limited to 25 visitors per tour. Reserve your tour by emailing info@pennsburymanor.org or calling 215-946-0400.
URL:https://www.pennsburymanor.org/event/candlelight-tours-8/
LOCATION:Pennsbury Manor\, 400 Pennsbury Memorial Road\, Morrisville\, PA\, 19067\, United States
END:VEVENT
BEGIN:VEVENT
DTSTART;TZID=America/New_York:20241231T000000
DTEND;TZID=America/New_York:20241231T000000
DTSTAMP:20260419T145109
CREATED:20240711T161228Z
LAST-MODIFIED:20240711T161228Z
UID:7514-1735603200-1735603200@www.pennsburymanor.org
SUMMARY:Site Closed for New Year’s
DESCRIPTION:
URL:https://www.pennsburymanor.org/event/site-closed-for-new-years/
LOCATION:PA
END:VEVENT
END:VCALENDAR