BEGIN:VCALENDAR
VERSION:2.0
PRODID:-//Pennsbury Manor - ECPv6.14.2//NONSGML v1.0//EN
CALSCALE:GREGORIAN
METHOD:PUBLISH
X-WR-CALNAME:Pennsbury Manor
X-ORIGINAL-URL:https://www.pennsburymanor.org
X-WR-CALDESC:Events for Pennsbury Manor
REFRESH-INTERVAL;VALUE=DURATION:PT1H
X-Robots-Tag:noindex
X-PUBLISHED-TTL:PT1H
BEGIN:VTIMEZONE
TZID:America/New_York
BEGIN:DAYLIGHT
TZOFFSETFROM:-0500
TZOFFSETTO:-0400
TZNAME:EDT
DTSTART:20240310T070000
END:DAYLIGHT
BEGIN:STANDARD
TZOFFSETFROM:-0400
TZOFFSETTO:-0500
TZNAME:EST
DTSTART:20241103T060000
END:STANDARD
END:VTIMEZONE
BEGIN:VEVENT
DTSTART;TZID=America/New_York:20241006T130000
DTEND;TZID=America/New_York:20241006T160000
DTSTAMP:20260419T092712
CREATED:20240711T154317Z
LAST-MODIFIED:20240711T154317Z
UID:7492-1728219600-1728230400@www.pennsburymanor.org
SUMMARY:Historic Trade Demonstrations
DESCRIPTION:Come and witness some of the trades and crafts practiced at Pennsbury Manor during the 17th Century. Our blacksmiths\, joyners and spinners will be eager to talk to you about their work and its importance during Penn’s time. \nThis program is provided free of charge with admission to Pennsbury Manor\, which includes a tour of the Manor House and other historic buildings. Tours are offered at 12:30\, 1:30\, 2:30\, and 3:30 pm.
URL:https://www.pennsburymanor.org/event/historic-trade-demonstrations-13/
LOCATION:Pennsbury Manor\, 400 Pennsbury Memorial Road\, Morrisville\, PA\, 19067\, United States
END:VEVENT
BEGIN:VEVENT
DTSTART;TZID=America/New_York:20241013T130000
DTEND;TZID=America/New_York:20241013T160000
DTSTAMP:20260419T092712
CREATED:20240711T154414Z
LAST-MODIFIED:20240711T154414Z
UID:7493-1728824400-1728835200@www.pennsburymanor.org
SUMMARY:Living History Theatre: The Departure 1701
DESCRIPTION:After not quite two years in Pennsylvania\, William Penn and his wife Hannah and daughter Letitia are leaving for England in October 1701. Why are they going? What preparations need to be made before their journey? How do their neighbors and members of the household feel about the Penns’ departure? \nThis program is provided free of charge with admission to Pennsbury Manor\, which includes a tour of the Manor House and other historic buildings. Tours are offered at 12:30\, 1:30\, 2:30\, and 3:30 pm.
URL:https://www.pennsburymanor.org/event/living-history-theatre-the-departure-1701/
LOCATION:Pennsbury Manor\, 400 Pennsbury Memorial Road\, Morrisville\, PA\, 19067\, United States
END:VEVENT
BEGIN:VEVENT
DTSTART;TZID=America/New_York:20241014T000000
DTEND;TZID=America/New_York:20241014T000000
DTSTAMP:20260419T092712
CREATED:20240711T154459Z
LAST-MODIFIED:20240711T154459Z
UID:7494-1728864000-1728864000@www.pennsburymanor.org
SUMMARY:Site Closed for Indigenous Peoples’ Day
DESCRIPTION:
URL:https://www.pennsburymanor.org/event/site-closed-for-indigenous-peoples-day/
LOCATION:PA
END:VEVENT
BEGIN:VEVENT
DTSTART;TZID=America/New_York:20241020T130000
DTEND;TZID=America/New_York:20241020T160000
DTSTAMP:20260419T092712
CREATED:20240711T154616Z
LAST-MODIFIED:20240711T154616Z
UID:7495-1729429200-1729440000@www.pennsburymanor.org
SUMMARY:Open-Hearth Cooking: Dinner for William Penn
DESCRIPTION:The cooks will be preparing and presenting a complete seasonal dinner as it would be served to the Governor and his guests. \nThis program is provided free of charge with admission to Pennsbury Manor\, which includes a tour of the Manor House and other historic buildings. Tours are offered at 12:30\, 1:30\, 2:30\, and 3:30 pm.
URL:https://www.pennsburymanor.org/event/open-hearth-cooking-dinner-for-william-penn-2/
LOCATION:Pennsbury Manor\, 400 Pennsbury Memorial Road\, Morrisville\, PA\, 19067\, United States
END:VEVENT
BEGIN:VEVENT
DTSTART;TZID=America/New_York:20241026T130000
DTEND;TZID=America/New_York:20241026T160000
DTSTAMP:20260419T092712
CREATED:20240711T154811Z
LAST-MODIFIED:20241007T181716Z
UID:7496-1729947600-1729958400@www.pennsburymanor.org
SUMMARY:Lenape Cultural Program
DESCRIPTION:Meet the First People of Pennsylvania\, the Lenape. \nHear their stories\, dance their dances. Pennsbury is proud to again host the federally recognized descendants of the Lenape (The Delaware tribe of Indians) for an afternoon of cultural programming. \nThis program is provided free of charge with admission to Pennsbury Manor\, which includes a tour of the Manor House and other historic buildings. Tours are offered at 11:00\, 1:00\, and 2:30 pm.
URL:https://www.pennsburymanor.org/event/lenape-cultural-program-2/
LOCATION:Pennsbury Manor\, 400 Pennsbury Memorial Road\, Morrisville\, PA\, 19067\, United States
END:VEVENT
BEGIN:VEVENT
DTSTART;TZID=America/New_York:20241027T130000
DTEND;TZID=America/New_York:20241027T160000
DTSTAMP:20260419T092712
CREATED:20240711T154939Z
LAST-MODIFIED:20240926T194321Z
UID:7497-1730034000-1730044800@www.pennsburymanor.org
SUMMARY:Tricks & Treats
DESCRIPTION:Join us for our annual FREE daytime trick-or-treating at Pennsbury Manor! \n Enjoy an afternoon of festive family-friendly Halloween fun mixed with Pennsylvania history. Kids can go trick-or-treating\, play fun carnival games\, sit on the jury for a witch trial\, watch the magic talking pumpkin show\, and more! \nAttend this fun and safe community Halloween celebration at William Penn’s beautiful estate! \n  \nTricks & Treats is proudly sponsored by: \n \n 
URL:https://www.pennsburymanor.org/event/tricks-treats-3/
LOCATION:Pennsbury Manor\, 400 Pennsbury Memorial Road\, Morrisville\, PA\, 19067\, United States
CATEGORIES:Featured
END:VEVENT
END:VCALENDAR