BEGIN:VCALENDAR
VERSION:2.0
PRODID:-//Pennsbury Manor - ECPv6.14.2//NONSGML v1.0//EN
CALSCALE:GREGORIAN
METHOD:PUBLISH
X-ORIGINAL-URL:https://www.pennsburymanor.org
X-WR-CALDESC:Events for Pennsbury Manor
REFRESH-INTERVAL;VALUE=DURATION:PT1H
X-Robots-Tag:noindex
X-PUBLISHED-TTL:PT1H
BEGIN:VTIMEZONE
TZID:America/New_York
BEGIN:DAYLIGHT
TZOFFSETFROM:-0500
TZOFFSETTO:-0400
TZNAME:EDT
DTSTART:20240310T070000
END:DAYLIGHT
BEGIN:STANDARD
TZOFFSETFROM:-0400
TZOFFSETTO:-0500
TZNAME:EST
DTSTART:20241103T060000
END:STANDARD
END:VTIMEZONE
BEGIN:VEVENT
DTSTART;TZID=America/New_York:20240901T130000
DTEND;TZID=America/New_York:20240901T160000
DTSTAMP:20260421T135830
CREATED:20240711T153209Z
LAST-MODIFIED:20240711T153209Z
UID:7483-1725195600-1725206400@www.pennsburymanor.org
SUMMARY:Historic Trade Demonstrations
DESCRIPTION:Come and witness some of the trades and crafts practiced at Pennsbury Manor during the 17th Century. Our blacksmiths\, joyners and spinners will be eager to talk to you about their work and its importance during Penn’s time. \nThis program is provided free of charge with admission to Pennsbury Manor\, which includes a tour of the Manor House and other historic buildings. Tours are offered at 12:30\, 1:30\, 2:30\, and 3:30 pm.
URL:https://www.pennsburymanor.org/event/historic-trade-demonstrations-12/
LOCATION:Pennsbury Manor\, 400 Pennsbury Memorial Road\, Morrisville\, PA\, 19067\, United States
END:VEVENT
BEGIN:VEVENT
DTSTART;TZID=America/New_York:20240902T000000
DTEND;TZID=America/New_York:20240902T000000
DTSTAMP:20260421T135830
CREATED:20240711T153411Z
LAST-MODIFIED:20240711T153411Z
UID:7484-1725235200-1725235200@www.pennsburymanor.org
SUMMARY:Site Closed for Labor Day
DESCRIPTION:
URL:https://www.pennsburymanor.org/event/site-closed-for-labor-day/
LOCATION:PA
END:VEVENT
BEGIN:VEVENT
DTSTART;TZID=America/New_York:20240908T130000
DTEND;TZID=America/New_York:20240908T160000
DTSTAMP:20260421T135830
CREATED:20240711T153515Z
LAST-MODIFIED:20240711T153515Z
UID:7485-1725800400-1725811200@www.pennsburymanor.org
SUMMARY:Living History Theatre: Border Dispute
DESCRIPTION:The border between Pennsylvania and Maryland was not clearly designated until well into the 1700s. Through William Penn’s proprietorship\, he clashed with Maryland proprietor Lord Baltimore over the border. For people living in the areas under dispute\, the conflict impacted their safety\, economy\, and ways they practiced their faith. \nThis program is provided free of charge with admission to Pennsbury Manor\, which includes a tour of the Manor House and other historic buildings. Tours are offered at 12:30\, 1:30\, 2:30\, and 3:30 pm.
URL:https://www.pennsburymanor.org/event/living-history-theatre-border-dispute/
LOCATION:Pennsbury Manor\, 400 Pennsbury Memorial Road\, Morrisville\, PA\, 19067\, United States
END:VEVENT
BEGIN:VEVENT
DTSTART;TZID=America/New_York:20240915T130000
DTEND;TZID=America/New_York:20240915T160000
DTSTAMP:20260421T135830
CREATED:20240711T153619Z
LAST-MODIFIED:20240711T153619Z
UID:7486-1726405200-1726416000@www.pennsburymanor.org
SUMMARY:Open-Hearth Cooking: Great Cakes
DESCRIPTION:The cooks will be preparing breathtaking cakes of all sizes. Come learn what it takes to bake a great cake! \nThis program is provided free of charge with admission to Pennsbury Manor\, which includes a tour of the Manor House and other historic buildings. Tours are offered at 12:30\, 1:30\, 2:30\, and 3:30 pm.
URL:https://www.pennsburymanor.org/event/open-hearth-cooking-great-cakes/
LOCATION:Pennsbury Manor\, 400 Pennsbury Memorial Road\, Morrisville\, PA\, 19067\, United States
END:VEVENT
BEGIN:VEVENT
DTSTART;TZID=America/New_York:20240921T110000
DTEND;TZID=America/New_York:20240921T140000
DTSTAMP:20260421T135830
CREATED:20240909T160654Z
LAST-MODIFIED:20240911T192119Z
UID:7537-1726916400-1726927200@www.pennsburymanor.org
SUMMARY:Meet nkwiluntàmën Artist Nathan Young
DESCRIPTION:Meet renowned multi-disciplinary artist Nathan Young at Pennsbury Manor. First\, experience his sonic art installation nkwiluntàmën. Then hear Young’s presentation followed by Q&A \nNathan Young is a member of the Delaware Tribe of Indians\, a federally recognized Lenape Tribe. \nIn his exhibition currently on view\, nkwiluntàmën\, Young reimagined Pennsbury Manor as a site for both reflecting on our nation’s past and envisioning new futures that honor Indigenous perspectives. \nFrom 11 am – 1 pm\, go at your own pace to experience the sound installation nkwiluntàmën by Nathan Young. There is a $3 fee to tour the grounds.  \nAt 1 pm\, enjoy “Welcome to Lenapehoking\,” a performative lecture by Nathan Young. \nThere will also be an opportunity to answer audience questions about Young’s experience creating nkwiluntàmën. \n\nAdvance registration for this event is highly recommended\, as space is limited. Please reserve your ticket clicking the secure ticketing link below.\n\n\nREGISTER\n\n\n\nMajor support for nkwiluntàmën is provided by The Pew Center for Arts & Heritage.
URL:https://www.pennsburymanor.org/event/meet-nkwiluntamen-artist-nathan-young/
LOCATION:Pennsbury Manor\, 400 Pennsbury Memorial Road\, Morrisville\, PA\, 19067\, United States
END:VEVENT
BEGIN:VEVENT
DTSTART;TZID=America/New_York:20240922T130000
DTEND;TZID=America/New_York:20240922T160000
DTSTAMP:20260421T135830
CREATED:20240711T153950Z
LAST-MODIFIED:20240711T153950Z
UID:7489-1727010000-1727020800@www.pennsburymanor.org
SUMMARY:Beer Brewing & Garden Highlights
DESCRIPTION:Beer brewing and garden maintenance were critical to the lives of those living at Pennsbury Manor. Explore and experience the sights\, sounds\, and smells of the recipes and plants that fed the early residents of Pennsylvania. \nThis program is provided free of charge with admission to Pennsbury Manor\, which includes a tour of the Manor House and other historic buildings. Tours are offered at 12:30\, 1:30\, 2:30\, and 3:30 pm.
URL:https://www.pennsburymanor.org/event/beer-brewing-garden-highlights-17/
LOCATION:Pennsbury Manor\, 400 Pennsbury Memorial Road\, Morrisville\, PA\, 19067\, United States
END:VEVENT
BEGIN:VEVENT
DTSTART;TZID=America/New_York:20240922T140000
DTEND;TZID=America/New_York:20240922T153000
DTSTAMP:20260421T135830
CREATED:20240816T194239Z
LAST-MODIFIED:20240816T194402Z
UID:7530-1727013600-1727019000@www.pennsburymanor.org
SUMMARY:Guest Lecture: The World(s) the Enslaved Made
DESCRIPTION:Hear a fascinating talk by visiting lecturer Dr. Randall Miller about the ever-evolving field of study of American slavery. \nA major challenge to historians studying slavery is the lack of written documents from the perspective of enslaved people. This\, of course\, was the result of deliberate attempts from enslavers to prevent the enslaved from having their stories heard. \nHowever\, over the past 50 years especially\, the study of slavery has been transformed by findings from archaeology\, folklore\, linguistics\, musicology\, and more\, and the use of such findings has made the enslaved not only more knowable but also gives them greater voice in their history \nIn his talk entitled “The World(s) the Enslaved Made\,” Dr. Randall Miller will discuss some of the ways the new understandings of the enslaved and their culture might apply to Pennsbury and slavery in William Penn’s day and after. \nAdvance registration is $8 for adults (12 – 64)\, $6 for seniors (65+)\, and $4 for children (3-11). \nREGISTER HERE
URL:https://www.pennsburymanor.org/event/the-worlds-the-enslaved-made/
LOCATION:Pennsbury Manor\, 400 Pennsbury Memorial Road\, Morrisville\, PA\, 19067\, United States
END:VEVENT
BEGIN:VEVENT
DTSTART;TZID=America/New_York:20240928T100000
DTEND;TZID=America/New_York:20240928T130000
DTSTAMP:20260421T135830
CREATED:20240711T154105Z
LAST-MODIFIED:20240906T144559Z
UID:7490-1727517600-1727528400@www.pennsburymanor.org
SUMMARY:Autumn Arts: Plein-air Painting
DESCRIPTION:Take a tour of Pennsbury Manor’s famous gardens and grounds\, and then settle into your favorite spot to paint!\n\nWhether you’re a seasoned painter or just starting out\, this workshop offers the perfect opportunity to enhance your skills\, find inspiration\, and create beautiful art. Our resident artist will tailor instruction each student’s experience!\n\nMaterials provided: viewfinder\, easel\, acrylic paints\, canvas\, and brushes. All you need to bring is enthusiasm to make art in the great outdoors!\n\nThe cost of the workshop is $30 for members\, $35 for nonmembers. To register\, email c-kerscott@pa.gov or call 215-946-0400.
URL:https://www.pennsburymanor.org/event/autumn-arts-plein-air-painting/
LOCATION:Pennsbury Manor\, 400 Pennsbury Memorial Road\, Morrisville\, PA\, 19067\, United States
END:VEVENT
BEGIN:VEVENT
DTSTART;TZID=America/New_York:20240929T130000
DTEND;TZID=America/New_York:20240929T160000
DTSTAMP:20260421T135830
CREATED:20240711T154208Z
LAST-MODIFIED:20240711T154208Z
UID:7491-1727614800-1727625600@www.pennsburymanor.org
SUMMARY:Animals at Pennsbury
DESCRIPTION:Meet the furry\, fuzzy\, and feathered inhabitants at Pennsbury\, and discover the important role their 17th century predecessors played in daily life. \nThis program is provided free of charge with admission to Pennsbury Manor\, which includes a tour of the Manor House and other historic buildings. Tours are offered at 12:30\, 1:30\, 2:30\, and 3:30 pm.
URL:https://www.pennsburymanor.org/event/animals-at-pennsbury-2/
LOCATION:Pennsbury Manor\, 400 Pennsbury Memorial Road\, Morrisville\, PA\, 19067\, United States
END:VEVENT
END:VCALENDAR