BEGIN:VCALENDAR
VERSION:2.0
PRODID:-//Pennsbury Manor - ECPv6.14.2//NONSGML v1.0//EN
CALSCALE:GREGORIAN
METHOD:PUBLISH
X-ORIGINAL-URL:https://www.pennsburymanor.org
X-WR-CALDESC:Events for Pennsbury Manor
REFRESH-INTERVAL;VALUE=DURATION:PT1H
X-Robots-Tag:noindex
X-PUBLISHED-TTL:PT1H
BEGIN:VTIMEZONE
TZID:America/New_York
BEGIN:DAYLIGHT
TZOFFSETFROM:-0500
TZOFFSETTO:-0400
TZNAME:EDT
DTSTART:20230312T070000
END:DAYLIGHT
BEGIN:STANDARD
TZOFFSETFROM:-0400
TZOFFSETTO:-0500
TZNAME:EST
DTSTART:20231105T060000
END:STANDARD
END:VTIMEZONE
BEGIN:VEVENT
DTSTART;TZID=America/New_York:20231202T100000
DTEND;TZID=America/New_York:20231202T110000
DTSTAMP:20260421T121823
CREATED:20230614T185853Z
LAST-MODIFIED:20230913T132429Z
UID:4643-1701511200-1701514800@www.pennsburymanor.org
SUMMARY:Book Club
DESCRIPTION:
URL:https://www.pennsburymanor.org/event/book-club-5/
LOCATION:PA
END:VEVENT
BEGIN:VEVENT
DTSTART;TZID=America/New_York:20231208T180000
DTEND;TZID=America/New_York:20231208T210000
DTSTAMP:20260421T121823
CREATED:20230614T185816Z
LAST-MODIFIED:20231208T190620Z
UID:4642-1702058400-1702069200@www.pennsburymanor.org
SUMMARY:Holly Nights: December 7th and 8th
DESCRIPTION:Let your holiday spirit burn bright with the old-world beauty of Holly Nights. This “Yuletide of yore” style celebration is breathtaking and remains the favorite of young and old who love holiday magic. Light and joy spread throughout the night as strolling carolers bring cheer\, crackling bonfires fill the crisp night air\, and visitors wander through the candlelit Manor House. You can also enjoy Colonial craft demonstrations and a visit from Father Christmas himself! You don’t want to miss Holly Nights because it lasts for two nights only. \nBUY YOUR TICKETS
URL:https://www.pennsburymanor.org/event/holly-night-2/
LOCATION:PA
ATTACH;FMTTYPE=image/jpeg:https://www.pennsburymanor.org/wp-content/uploads/2023/06/holly-nights-featured.jpg
END:VEVENT
BEGIN:VEVENT
DTSTART;TZID=America/New_York:20231208T180000
DTEND;TZID=America/New_York:20231208T210000
DTSTAMP:20260421T121823
CREATED:20230614T190044Z
LAST-MODIFIED:20231129T211336Z
UID:4644-1702058400-1702069200@www.pennsburymanor.org
SUMMARY:Holly Nights: December 7th and 8th
DESCRIPTION:Let your holiday spirit burn bright with the old-world beauty of Holly Nights. This “Yuletide of yore” style celebration is breathtaking and remains the favorite of young and old who love holiday magic. Light and joy spread throughout the night as strolling carolers bring cheer\, crackling bonfires fill the crisp night air\, and visitors wander through the candlelit Manor House. You can also enjoy Colonial craft demonstrations and a visit from Father Christmas himself! You don’t want to miss Holly Nights because it lasts for two nights only. \nBUY YOUR TICKETS
URL:https://www.pennsburymanor.org/event/holly-nights-december-7th-8th/
LOCATION:PA
ATTACH;FMTTYPE=image/jpeg:https://www.pennsburymanor.org/wp-content/uploads/2023/06/holly-nights-featured.jpg
END:VEVENT
BEGIN:VEVENT
DTSTART;TZID=America/New_York:20231215T150000
DTEND;TZID=America/New_York:20231215T180000
DTSTAMP:20260421T121823
CREATED:20230614T190220Z
LAST-MODIFIED:20231214T141605Z
UID:4645-1702652400-1702663200@www.pennsburymanor.org
SUMMARY:Candlelight Tours
DESCRIPTION:Lanterns illuminating the Manor House remain lit for our special candlelight tours. If the crowds on Holly Nights are not your thing\, you may enjoy this more intimate tour of the Manor House and Kitchen House. Each tour is limited to only 25 people. In this relaxed setting\, you will learn about the food and holiday traditions the Penns celebrated. \nJoin us Friday December 15th\, Saturday December 16th\, Friday December 29th or Saturday December 30th to experience William Penn’s home in the warm glow of evening candlelight. Tours are offered at 3pm\, 5pm\, and 6pm. \n\nAdmission is $9 for adults\, $7 for seniors 65+\, and $5 for children 3-11. Reservations are strongly recommended as space is limited. Spots may be full if you show up the day of. Reserve your place by emailing info@pennsburymanor.org or calling (215) 946-0400.
URL:https://www.pennsburymanor.org/event/candlelight-tours/
LOCATION:PA
END:VEVENT
BEGIN:VEVENT
DTSTART;TZID=America/New_York:20231216T100000
DTEND;TZID=America/New_York:20231216T100000
DTSTAMP:20260421T121823
CREATED:20230614T190309Z
LAST-MODIFIED:20230913T132427Z
UID:4646-1702720800-1702720800@www.pennsburymanor.org
SUMMARY:Sewing Group
DESCRIPTION:
URL:https://www.pennsburymanor.org/event/sewing-group-5/
LOCATION:PA
END:VEVENT
BEGIN:VEVENT
DTSTART;TZID=America/New_York:20231216T100000
DTEND;TZID=America/New_York:20231216T120000
DTSTAMP:20260421T121823
CREATED:20230614T190403Z
LAST-MODIFIED:20231212T150839Z
UID:4647-1702720800-1702728000@www.pennsburymanor.org
SUMMARY:Ornament Workshop - Kids FREE with adult sign up!
DESCRIPTION:Make your own holiday decorations this year with Pennsbury Manor’s Ornament Workshop. In two classes\, one for adults and one for children\, you will learn to create Christmas tree ornaments using natural materials. \nYou will learn how to craft quilted pinecone ornaments and create a perfect star out of twine to give your tree an earthy feel. \nIn addition to preparing pinecone ornaments\, kids will be treated to a holiday-themed story time\, decorating gingerbread cookies\, completing a paint and scratch winter wonderland scene\, and designing their own wrapping paper. \nThis is a great way to create holiday memories with your little ones that will last well past the decorations being taken down. \nCost is $30 for members\, $35 for nonmembers. All materials are provided. Classes for kids are FREE with adult sign up. Donations are appreciated. \nYou must register in advance by emailing info@pennsburymanor.org or calling (215) 946-0400.
URL:https://www.pennsburymanor.org/event/ornament-workshop-2/
LOCATION:PA
END:VEVENT
BEGIN:VEVENT
DTSTART;TZID=America/New_York:20231216T150000
DTEND;TZID=America/New_York:20231216T180000
DTSTAMP:20260421T121823
CREATED:20230614T190506Z
LAST-MODIFIED:20231129T161529Z
UID:4648-1702738800-1702749600@www.pennsburymanor.org
SUMMARY:Candlelight Tours
DESCRIPTION:Hundreds of lanterns illuminating the path to the Manor House remain lit for our special candlelight tours. If the crowds on Holly Nights are not your thing\, you may enjoy this more intimate tour of the Manor House and Kitchen House. Each tour is limited to only 25 people. In this relaxed setting\, you will learn about the food and holiday traditions the Penns celebrated. \nJoin us Friday December 15th\, Saturday December 16th\, Friday December 29th or Saturday December 30th to experience William Penn’s home in the warm glow of evening candlelight. Tours are offered at 3pm\, 5pm\, and 6pm. \nAdmission is $9 for adults\, $7 for seniors 65+\, and $5 for children 3-11. Reservations are strongly recommended as space is limited. Spots may be full if you show up the day of. Reserve your place by emailing info@pennsburymanor.org or calling (215) 946-0400.
URL:https://www.pennsburymanor.org/event/candlelight-tours-2/
LOCATION:PA
END:VEVENT
BEGIN:VEVENT
DTSTART;VALUE=DATE:20231224
DTEND;VALUE=DATE:20231225
DTSTAMP:20260421T121823
CREATED:20231218T144205Z
LAST-MODIFIED:20231218T144205Z
UID:7142-1703376000-1703462399@www.pennsburymanor.org
SUMMARY:Site Closed - Christmas Eve
DESCRIPTION:
URL:https://www.pennsburymanor.org/event/site-closed-christmas-eve/
LOCATION:PA
END:VEVENT
BEGIN:VEVENT
DTSTART;TZID=America/New_York:20231225T000000
DTEND;TZID=America/New_York:20231225T000000
DTSTAMP:20260421T121823
CREATED:20230614T190857Z
LAST-MODIFIED:20230913T132426Z
UID:4649-1703462400-1703462400@www.pennsburymanor.org
SUMMARY:Site Closed – Christmas
DESCRIPTION:
URL:https://www.pennsburymanor.org/event/site-closed-christmas/
LOCATION:PA
END:VEVENT
BEGIN:VEVENT
DTSTART;TZID=America/New_York:20231229T150000
DTEND;TZID=America/New_York:20231229T180000
DTSTAMP:20260421T121823
CREATED:20230614T190953Z
LAST-MODIFIED:20231129T161719Z
UID:4650-1703862000-1703872800@www.pennsburymanor.org
SUMMARY:Candlelight Tours
DESCRIPTION:Hundreds of lanterns illuminating the path to the Manor House remain lit for our special candlelight tours. If the crowds on Holly Nights are not your thing\, you may enjoy this more intimate tour of the Manor House and Kitchen House. Each tour is limited to only 25 people. In this relaxed setting\, you will learn about the food and holiday traditions the Penns celebrated. \n\nJoin us Friday December 15th\, Saturday December 16th\, Friday December 29th or Saturday December 30th to experience William Penn’s home in the warm glow of evening candlelight. Tours are offered at 3pm\, 5pm\, and 6pm. \nAdmission is $9 for adults\, $7 for seniors 65+\, and $5 for children 3-11. Reservations are strongly recommended as space is limited. Spots may be full if you show up the day of. Reserve your place by emailing info@pennsburymanor.org or calling (215) 946-0400.
URL:https://www.pennsburymanor.org/event/candlelight-tours-3/
LOCATION:PA
END:VEVENT
BEGIN:VEVENT
DTSTART;TZID=America/New_York:20231230T150000
DTEND;TZID=America/New_York:20231230T180000
DTSTAMP:20260421T121823
CREATED:20230614T191052Z
LAST-MODIFIED:20231129T161836Z
UID:4651-1703948400-1703959200@www.pennsburymanor.org
SUMMARY:Candlelight Tours
DESCRIPTION:Hundreds of lanterns illuminating the path to the Manor House remain lit for our special candlelight tours. If the crowds on Holly Nights are not your thing\, you may enjoy this more intimate tour of the Manor House and Kitchen House. Each tour is limited to only 25 people. In this relaxed setting\, you will learn about the food and holiday traditions the Penns celebrated. \nJoin us Friday December 15th\, Saturday December 16th\, Friday December 29th or Saturday December 30th to experience William Penn’s home in the warm glow of evening candlelight. Tours are offered at 3pm\, 5pm\, and 6pm. \nAdmission is $9 for adults\, $7 for seniors 65+\, and $5 for children 3-11. Reservations are strongly recommended as space is limited. Spots may be full if you show up the day of. Reserve your place by emailing info@pennsburymanor.org or calling (215) 946-0400.
URL:https://www.pennsburymanor.org/event/candlelight-tours-4/
LOCATION:PA
END:VEVENT
BEGIN:VEVENT
DTSTART;TZID=America/New_York:20231231T000000
DTEND;TZID=America/New_York:20231231T000000
DTSTAMP:20260421T121823
CREATED:20231129T153913Z
LAST-MODIFIED:20231129T154345Z
UID:7094-1703980800-1703980800@www.pennsburymanor.org
SUMMARY:Site Closed - New Year's Eve
DESCRIPTION:
URL:https://www.pennsburymanor.org/event/site-closed-new-years-eve/
LOCATION:PA
END:VEVENT
END:VCALENDAR