BEGIN:VCALENDAR
VERSION:2.0
PRODID:-//Pennsbury Manor - ECPv6.14.2//NONSGML v1.0//EN
CALSCALE:GREGORIAN
METHOD:PUBLISH
X-WR-CALNAME:Pennsbury Manor
X-ORIGINAL-URL:https://www.pennsburymanor.org
X-WR-CALDESC:Events for Pennsbury Manor
REFRESH-INTERVAL;VALUE=DURATION:PT1H
X-Robots-Tag:noindex
X-PUBLISHED-TTL:PT1H
BEGIN:VTIMEZONE
TZID:America/New_York
BEGIN:DAYLIGHT
TZOFFSETFROM:-0500
TZOFFSETTO:-0400
TZNAME:EDT
DTSTART:20220313T070000
END:DAYLIGHT
BEGIN:STANDARD
TZOFFSETFROM:-0400
TZOFFSETTO:-0500
TZNAME:EST
DTSTART:20221106T060000
END:STANDARD
END:VTIMEZONE
BEGIN:VEVENT
DTSTART;TZID=America/New_York:20220501T130000
DTEND;TZID=America/New_York:20220501T160000
DTSTAMP:20260425T155500
CREATED:20220121T171816Z
LAST-MODIFIED:20230913T132511Z
UID:4302-1651410000-1651420800@www.pennsburymanor.org
SUMMARY:Historic Trades
DESCRIPTION:Historic Trades | 1:00-4:00pm  \nOur historic trades demonstrators will be eager to talk as they showcase their skills! 
URL:https://www.pennsburymanor.org/event/historic-trades-24/
LOCATION:PA
END:VEVENT
BEGIN:VEVENT
DTSTART;VALUE=DATE:20220508
DTEND;VALUE=DATE:20220509
DTSTAMP:20260425T155500
CREATED:20220125T164108Z
LAST-MODIFIED:20230913T132509Z
UID:4340-1651968000-1652054399@www.pennsburymanor.org
SUMMARY:Living History Theatre
DESCRIPTION:Woman’s Monthly Meeting:\nThroughout the 17th and 18th centuries\, Quakers met on Sundays for Worship. To help run the community\, separate meetings were held by both men and women to address routine business and raise concerns. This program is inspired by events described in the minutes of the Falls Woman’s Monthly Meeting. Come and join leading Quakers like Sarah Sirkit\, Jane Biles\, and others as they work to solve pressing issues within the community! \nTimes: 12:15pm\, 1:45pm\, 3:15pm
URL:https://www.pennsburymanor.org/event/living-history-theatre-2/
LOCATION:PA
END:VEVENT
BEGIN:VEVENT
DTSTART;TZID=America/New_York:20220515T130000
DTEND;TZID=America/New_York:20220515T160000
DTSTAMP:20260425T155500
CREATED:20220121T162057Z
LAST-MODIFIED:20230913T132512Z
UID:4287-1652619600-1652630400@www.pennsburymanor.org
SUMMARY:Open-Hearth Cooking Demonstration
DESCRIPTION:Open-Hearth Cooking Demonstration | 1:00-4:00pm \nChat with our cooks as they prepare recipes from William Penn’s time. \nWhite Meats (Cheese and Butter)  – The grass is green and the cows are being milked.  The cooks will demonstrate 17th century receipts (recipes) using dairy products.
URL:https://www.pennsburymanor.org/event/open-hearth-cooking-demonstration-8/
LOCATION:PA
END:VEVENT
BEGIN:VEVENT
DTSTART;TZID=America/New_York:20220522T130000
DTEND;TZID=America/New_York:20220522T160000
DTSTAMP:20260425T155500
CREATED:20220121T164627Z
LAST-MODIFIED:20230913T132512Z
UID:4296-1653224400-1653235200@www.pennsburymanor.org
SUMMARY:Beer Brewing and Garden Highlights
DESCRIPTION:Beer Brewing and Garden Highlights | 1-4pm \nBrewing and gardening were critical to the lives of those living at Pennsbury Manor.  Explore the recipes and plants that fed the early residents of Pennsylvania. 
URL:https://www.pennsburymanor.org/event/beer-brewing-and-garden-highlights-11/
LOCATION:PA
END:VEVENT
BEGIN:VEVENT
DTSTART;TZID=America/New_York:20220528T100000
DTEND;TZID=America/New_York:20220528T150000
DTSTAMP:20260425T155500
CREATED:20220412T192944Z
LAST-MODIFIED:20230913T132508Z
UID:4391-1653732000-1653750000@www.pennsburymanor.org
SUMMARY:Plant Sale
DESCRIPTION:Fill your planters and gardens with historic annuals and herbs! Our gardener has started a variety of flowers and herbs that William Penn likely enjoyed in his gardens.  Come out from 10:00am-3:00pm to buy and take home a little piece of Pennsbury history.
URL:https://www.pennsburymanor.org/event/plant-sale/
LOCATION:PA
END:VEVENT
BEGIN:VEVENT
DTSTART;TZID=America/New_York:20220529T130000
DTEND;TZID=America/New_York:20220529T160000
DTSTAMP:20260425T155500
CREATED:20220121T173114Z
LAST-MODIFIED:20230913T132511Z
UID:4311-1653829200-1653840000@www.pennsburymanor.org
SUMMARY:Animals at Pennsbury
DESCRIPTION:Animals at Pennsbury | 1-4pm \nOur animal interpreters will be on hand to share stories and fun facts about the lives of animals at Pennsbury\, past and present.
URL:https://www.pennsburymanor.org/event/animals-at-pennsbury-7/
LOCATION:PA
END:VEVENT
BEGIN:VEVENT
DTSTART;VALUE=DATE:20220530
DTEND;VALUE=DATE:20220531
DTSTAMP:20260425T155500
CREATED:20220121T172936Z
LAST-MODIFIED:20230913T132511Z
UID:4310-1653868800-1653955199@www.pennsburymanor.org
SUMMARY:Memorial Day - CLOSED
DESCRIPTION:Pennsbury Manor will be CLOSED for Memorial Day.
URL:https://www.pennsburymanor.org/event/memorial-day-no-tours/
LOCATION:PA
END:VEVENT
END:VCALENDAR