BEGIN:VCALENDAR
VERSION:2.0
PRODID:-//Pennsbury Manor - ECPv6.14.2//NONSGML v1.0//EN
CALSCALE:GREGORIAN
METHOD:PUBLISH
X-WR-CALNAME:Pennsbury Manor
X-ORIGINAL-URL:https://www.pennsburymanor.org
X-WR-CALDESC:Events for Pennsbury Manor
REFRESH-INTERVAL;VALUE=DURATION:PT1H
X-Robots-Tag:noindex
X-PUBLISHED-TTL:PT1H
BEGIN:VTIMEZONE
TZID:America/New_York
BEGIN:DAYLIGHT
TZOFFSETFROM:-0500
TZOFFSETTO:-0400
TZNAME:EDT
DTSTART:20260308T070000
END:DAYLIGHT
BEGIN:STANDARD
TZOFFSETFROM:-0400
TZOFFSETTO:-0500
TZNAME:EST
DTSTART:20261101T060000
END:STANDARD
END:VTIMEZONE
BEGIN:VEVENT
DTSTART;TZID=America/New_York:20260412T130000
DTEND;TZID=America/New_York:20260412T160000
DTSTAMP:20260421T050842
CREATED:20251217T173028Z
LAST-MODIFIED:20251217T173148Z
UID:7781-1775998800-1776009600@www.pennsburymanor.org
SUMMARY:Living History Theater: Pemberton Funeral
DESCRIPTION:Come and mourn the loss of Phineas Pemberton and learn more about the life of one of Penn’s friends and important Quaker political figure.
URL:https://www.pennsburymanor.org/event/living-history-theater-pemberton-funeral/
LOCATION:Pennsbury Manor\, 400 Pennsbury Memorial Road\, Morrisville\, PA\, 19067\, United States
END:VEVENT
END:VCALENDAR