BEGIN:VCALENDAR
VERSION:2.0
PRODID:-//Pennsbury Manor - ECPv6.14.2//NONSGML v1.0//EN
CALSCALE:GREGORIAN
METHOD:PUBLISH
X-ORIGINAL-URL:https://www.pennsburymanor.org
X-WR-CALDESC:Events for Pennsbury Manor
REFRESH-INTERVAL;VALUE=DURATION:PT1H
X-Robots-Tag:noindex
X-PUBLISHED-TTL:PT1H
BEGIN:VTIMEZONE
TZID:America/New_York
BEGIN:DAYLIGHT
TZOFFSETFROM:-0500
TZOFFSETTO:-0400
TZNAME:EDT
DTSTART:20250309T070000
END:DAYLIGHT
BEGIN:STANDARD
TZOFFSETFROM:-0400
TZOFFSETTO:-0500
TZNAME:EST
DTSTART:20251102T060000
END:STANDARD
END:VTIMEZONE
BEGIN:VEVENT
DTSTART;TZID=America/New_York:20250504T130000
DTEND;TZID=America/New_York:20250504T160000
DTSTAMP:20260419T202135
CREATED:20250428T193143Z
LAST-MODIFIED:20250428T193143Z
UID:7631-1746363600-1746374400@www.pennsburymanor.org
SUMMARY:Historic Trades and Sheep Shearing
DESCRIPTION:Come and witness some of the trades and crafts practiced at Pennsbury Manor during the 17th century. Our blacksmiths\, joiners\, and spinners will be eager to talk to about their work and its importance during Penn’s time. \nWith spring well underway\, we will also begin shearing our sheep. This annual process helps the flock get ready for the summer as well as keeps our spinners busy year round. Hand shearing demonstrations will take place between 1-4pm!
URL:https://www.pennsburymanor.org/event/historic-trades-and-sheep-shearing/
LOCATION:Pennsbury Manor\, 400 Pennsbury Memorial Road\, Morrisville\, PA\, 19067\, United States
END:VEVENT
END:VCALENDAR