BEGIN:VCALENDAR
VERSION:2.0
PRODID:-//Pennsbury Manor - ECPv6.14.2//NONSGML v1.0//EN
CALSCALE:GREGORIAN
METHOD:PUBLISH
X-ORIGINAL-URL:https://www.pennsburymanor.org
X-WR-CALDESC:Events for Pennsbury Manor
REFRESH-INTERVAL;VALUE=DURATION:PT1H
X-Robots-Tag:noindex
X-PUBLISHED-TTL:PT1H
BEGIN:VTIMEZONE
TZID:America/New_York
BEGIN:DAYLIGHT
TZOFFSETFROM:-0500
TZOFFSETTO:-0400
TZNAME:EDT
DTSTART:20250309T070000
END:DAYLIGHT
BEGIN:STANDARD
TZOFFSETFROM:-0400
TZOFFSETTO:-0500
TZNAME:EST
DTSTART:20251102T060000
END:STANDARD
END:VTIMEZONE
BEGIN:VEVENT
DTSTART;TZID=America/New_York:20250406T130000
DTEND;TZID=America/New_York:20250406T160000
DTSTAMP:20260419T110721
CREATED:20250320T141138Z
LAST-MODIFIED:20250320T142126Z
UID:7612-1743944400-1743955200@www.pennsburymanor.org
SUMMARY:Historic Trade Demonstrations
DESCRIPTION:Come and witness some of the trades and crafts practiced at Pennsbury Manor during the 17th century. \nOur blacksmiths\, joiners\, and spinners will be eager to talk to about their work and its importance during Penn’s time.
URL:https://www.pennsburymanor.org/event/historic-trade-demonstrations-14/
LOCATION:Pennsbury Manor\, 400 Pennsbury Memorial Road\, Morrisville\, PA\, 19067\, United States
END:VEVENT
END:VCALENDAR