BEGIN:VCALENDAR
VERSION:2.0
PRODID:-//Pennsbury Manor - ECPv6.14.2//NONSGML v1.0//EN
CALSCALE:GREGORIAN
METHOD:PUBLISH
X-WR-CALNAME:Pennsbury Manor
X-ORIGINAL-URL:https://www.pennsburymanor.org
X-WR-CALDESC:Events for Pennsbury Manor
REFRESH-INTERVAL;VALUE=DURATION:PT1H
X-Robots-Tag:noindex
X-PUBLISHED-TTL:PT1H
BEGIN:VTIMEZONE
TZID:America/New_York
BEGIN:DAYLIGHT
TZOFFSETFROM:-0500
TZOFFSETTO:-0400
TZNAME:EDT
DTSTART:20240310T070000
END:DAYLIGHT
BEGIN:STANDARD
TZOFFSETFROM:-0400
TZOFFSETTO:-0500
TZNAME:EST
DTSTART:20241103T060000
END:STANDARD
END:VTIMEZONE
BEGIN:VEVENT
DTSTART;TZID=America/New_York:20241020T130000
DTEND;TZID=America/New_York:20241020T160000
DTSTAMP:20260419T111545
CREATED:20240711T154616Z
LAST-MODIFIED:20240711T154616Z
UID:7495-1729429200-1729440000@www.pennsburymanor.org
SUMMARY:Open-Hearth Cooking: Dinner for William Penn
DESCRIPTION:The cooks will be preparing and presenting a complete seasonal dinner as it would be served to the Governor and his guests. \nThis program is provided free of charge with admission to Pennsbury Manor\, which includes a tour of the Manor House and other historic buildings. Tours are offered at 12:30\, 1:30\, 2:30\, and 3:30 pm.
URL:https://www.pennsburymanor.org/event/open-hearth-cooking-dinner-for-william-penn-2/
LOCATION:Pennsbury Manor\, 400 Pennsbury Memorial Road\, Morrisville\, PA\, 19067\, United States
END:VEVENT
END:VCALENDAR