BEGIN:VCALENDAR
VERSION:2.0
PRODID:-//Pennsbury Manor - ECPv6.14.2//NONSGML v1.0//EN
CALSCALE:GREGORIAN
METHOD:PUBLISH
X-ORIGINAL-URL:https://www.pennsburymanor.org
X-WR-CALDESC:Events for Pennsbury Manor
REFRESH-INTERVAL;VALUE=DURATION:PT1H
X-Robots-Tag:noindex
X-PUBLISHED-TTL:PT1H
BEGIN:VTIMEZONE
TZID:America/New_York
BEGIN:DAYLIGHT
TZOFFSETFROM:-0500
TZOFFSETTO:-0400
TZNAME:EDT
DTSTART:20240310T070000
END:DAYLIGHT
BEGIN:STANDARD
TZOFFSETFROM:-0400
TZOFFSETTO:-0500
TZNAME:EST
DTSTART:20241103T060000
END:STANDARD
END:VTIMEZONE
BEGIN:VEVENT
DTSTART;TZID=America/New_York:20240825T130000
DTEND;TZID=America/New_York:20240825T160000
DTSTAMP:20260425T110045
CREATED:20240711T152610Z
LAST-MODIFIED:20240711T153006Z
UID:7482-1724590800-1724601600@www.pennsburymanor.org
SUMMARY:Beer Brewing & Garden Highlights
DESCRIPTION:Beer brewing and garden maintenance were critical to the lives of those living at Pennsbury Manor. Explore and experience the sights\, sounds\, and smells of the recipes and plants that fed the early residents of Pennsylvania. \nThis program is provided free of charge with admission to Pennsbury Manor\, which includes a tour of the Manor House and other historic buildings. Tours are offered at 12:30\, 1:30\, 2:30\, and 3:30 pm.
URL:https://www.pennsburymanor.org/event/beer-brewing-garden-highlights-116/
LOCATION:Pennsbury Manor\, 400 Pennsbury Memorial Road\, Morrisville\, PA\, 19067\, United States
END:VEVENT
END:VCALENDAR