BEGIN:VCALENDAR
VERSION:2.0
PRODID:-//Pennsbury Manor - ECPv6.14.2//NONSGML v1.0//EN
CALSCALE:GREGORIAN
METHOD:PUBLISH
X-WR-CALNAME:Pennsbury Manor
X-ORIGINAL-URL:https://www.pennsburymanor.org
X-WR-CALDESC:Events for Pennsbury Manor
REFRESH-INTERVAL;VALUE=DURATION:PT1H
X-Robots-Tag:noindex
X-PUBLISHED-TTL:PT1H
BEGIN:VTIMEZONE
TZID:America/New_York
BEGIN:DAYLIGHT
TZOFFSETFROM:-0500
TZOFFSETTO:-0400
TZNAME:EDT
DTSTART:20240310T070000
END:DAYLIGHT
BEGIN:STANDARD
TZOFFSETFROM:-0400
TZOFFSETTO:-0500
TZNAME:EST
DTSTART:20241103T060000
END:STANDARD
END:VTIMEZONE
BEGIN:VEVENT
DTSTART;TZID=America/New_York:20240804T130000
DTEND;TZID=America/New_York:20240804T160000
DTSTAMP:20260423T145029
CREATED:20240711T151518Z
LAST-MODIFIED:20240711T152707Z
UID:7479-1722776400-1722787200@www.pennsburymanor.org
SUMMARY:Historic Trade Demonstrations
DESCRIPTION:Come and witness some of the trades and crafts practiced at Pennsbury Manor during the 17th century. Our blacksmiths\, joyners\, and spinners will be eager to talk to you about their work and its importance during Penn’s time. \nThis program is provided free of charge with admission to Pennsbury Manor\, which includes a tour of the Manor House and other historic buildings. Tours are offered at 12:30\, 1:30\, 2:30\, and 3:30 pm.
URL:https://www.pennsburymanor.org/event/historic-trade-demonstrations-11/
LOCATION:Pennsbury Manor\, 400 Pennsbury Memorial Road\, Morrisville\, PA\, 19067\, United States
END:VEVENT
END:VCALENDAR