BEGIN:VCALENDAR
VERSION:2.0
PRODID:-//Pennsbury Manor - ECPv6.14.2//NONSGML v1.0//EN
CALSCALE:GREGORIAN
METHOD:PUBLISH
X-WR-CALNAME:Pennsbury Manor
X-ORIGINAL-URL:https://www.pennsburymanor.org
X-WR-CALDESC:Events for Pennsbury Manor
REFRESH-INTERVAL;VALUE=DURATION:PT1H
X-Robots-Tag:noindex
X-PUBLISHED-TTL:PT1H
BEGIN:VTIMEZONE
TZID:America/New_York
BEGIN:DAYLIGHT
TZOFFSETFROM:-0500
TZOFFSETTO:-0400
TZNAME:EDT
DTSTART:20230312T070000
END:DAYLIGHT
BEGIN:STANDARD
TZOFFSETFROM:-0400
TZOFFSETTO:-0500
TZNAME:EST
DTSTART:20231105T060000
END:STANDARD
END:VTIMEZONE
BEGIN:VEVENT
DTSTART;TZID=America/New_York:20231022T130000
DTEND;TZID=America/New_York:20231022T160000
DTSTAMP:20260419T110639
CREATED:20230614T183737Z
LAST-MODIFIED:20231002T160520Z
UID:4631-1697979600-1697990400@www.pennsburymanor.org
SUMMARY:Beer Brewing and Garden Highlights
DESCRIPTION:Brewers will be making pumpkin ale for the final beer brewing demonstration of the year. Enjoy the sights and smells as our brewers prepare a seasonal favorite from a historical recipe.
URL:https://www.pennsburymanor.org/event/open-hearth-cooking-17th-century-puddings/
LOCATION:PA
END:VEVENT
BEGIN:VEVENT
DTSTART;TZID=America/New_York:20231022T130000
DTEND;TZID=America/New_York:20231022T160000
DTSTAMP:20260419T110639
CREATED:20231002T160351Z
LAST-MODIFIED:20231002T160413Z
UID:6784-1697979600-1697990400@www.pennsburymanor.org
SUMMARY:Lenape Public Program
DESCRIPTION:Delaware Tribal members from Oklahoma will present about their culture. They will tell stories from their heritage\, encourage audience participation for Native dances\, have games for kids\, and talk about where they are today. Join us for this rare opportunity to learn from Delaware Tribal members about their history and culture! \n  \n 
URL:https://www.pennsburymanor.org/event/lenape-public-program/
LOCATION:PA
END:VEVENT
END:VCALENDAR