BEGIN:VCALENDAR
VERSION:2.0
PRODID:-//Pennsbury Manor - ECPv6.14.2//NONSGML v1.0//EN
CALSCALE:GREGORIAN
METHOD:PUBLISH
X-ORIGINAL-URL:https://www.pennsburymanor.org
X-WR-CALDESC:Events for Pennsbury Manor
REFRESH-INTERVAL;VALUE=DURATION:PT1H
X-Robots-Tag:noindex
X-PUBLISHED-TTL:PT1H
BEGIN:VTIMEZONE
TZID:America/New_York
BEGIN:DAYLIGHT
TZOFFSETFROM:-0500
TZOFFSETTO:-0400
TZNAME:EDT
DTSTART:20230312T070000
END:DAYLIGHT
BEGIN:STANDARD
TZOFFSETFROM:-0400
TZOFFSETTO:-0500
TZNAME:EST
DTSTART:20231105T060000
END:STANDARD
END:VTIMEZONE
BEGIN:VEVENT
DTSTART;TZID=America/New_York:20230624T160000
DTEND;TZID=America/New_York:20230624T200000
DTSTAMP:20260424T154714
CREATED:20230223T173702Z
LAST-MODIFIED:20230913T132451Z
UID:4567-1687622400-1687636800@www.pennsburymanor.org
SUMMARY:Brews & Bites
DESCRIPTION:Tap into history with beer tasting paired with your selection of food from an array of food trucks. A great way to spend a summer evening! Must be 21+ to attend. \nFor tickets\, follow below link \nhttps://www.eventbrite.com/e/brews-and-bites-tickets-628012059977
URL:https://www.pennsburymanor.org/event/brews-bites/
LOCATION:PA
END:VEVENT
END:VCALENDAR