BEGIN:VCALENDAR
VERSION:2.0
PRODID:-//Pennsbury Manor - ECPv6.14.2//NONSGML v1.0//EN
CALSCALE:GREGORIAN
METHOD:PUBLISH
X-WR-CALNAME:Pennsbury Manor
X-ORIGINAL-URL:https://www.pennsburymanor.org
X-WR-CALDESC:Events for Pennsbury Manor
REFRESH-INTERVAL;VALUE=DURATION:PT1H
X-Robots-Tag:noindex
X-PUBLISHED-TTL:PT1H
BEGIN:VTIMEZONE
TZID:America/New_York
BEGIN:DAYLIGHT
TZOFFSETFROM:-0500
TZOFFSETTO:-0400
TZNAME:EDT
DTSTART:20230312T070000
END:DAYLIGHT
BEGIN:STANDARD
TZOFFSETFROM:-0400
TZOFFSETTO:-0500
TZNAME:EST
DTSTART:20231105T060000
END:STANDARD
END:VTIMEZONE
BEGIN:VEVENT
DTSTART;TZID=America/New_York:20230416T130000
DTEND;TZID=America/New_York:20230416T160000
DTSTAMP:20260421T162002
CREATED:20230223T172339Z
LAST-MODIFIED:20230913T132459Z
UID:4551-1681650000-1681660800@www.pennsburymanor.org
SUMMARY:Open Hearth Cooking: The Bake Oven
DESCRIPTION:The cooks will fire the bake oven to demonstrate the weekly baking of bread and more.
URL:https://www.pennsburymanor.org/event/open-hearth-cooking-the-bake-oven-2/
LOCATION:PA
END:VEVENT
END:VCALENDAR