BEGIN:VCALENDAR
VERSION:2.0
PRODID:-//Pennsbury Manor - ECPv6.14.2//NONSGML v1.0//EN
CALSCALE:GREGORIAN
METHOD:PUBLISH
X-WR-CALNAME:Pennsbury Manor
X-ORIGINAL-URL:https://www.pennsburymanor.org
X-WR-CALDESC:Events for Pennsbury Manor
REFRESH-INTERVAL;VALUE=DURATION:PT1H
X-Robots-Tag:noindex
X-PUBLISHED-TTL:PT1H
BEGIN:VTIMEZONE
TZID:America/New_York
BEGIN:DAYLIGHT
TZOFFSETFROM:-0500
TZOFFSETTO:-0400
TZNAME:EDT
DTSTART:20230312T070000
END:DAYLIGHT
BEGIN:STANDARD
TZOFFSETFROM:-0400
TZOFFSETTO:-0500
TZNAME:EST
DTSTART:20231105T060000
END:STANDARD
END:VTIMEZONE
BEGIN:VEVENT
DTSTART;VALUE=DATE:20230415
DTEND;VALUE=DATE:20230416
DTSTAMP:20260421T105120
CREATED:20230223T172243Z
LAST-MODIFIED:20230913T132459Z
UID:4550-1681516800-1681603199@www.pennsburymanor.org
SUMMARY:Nathan Young Exhibit Opening
DESCRIPTION:nkwiluntamen: I Long for It\, experience this sound art installation by Delaware Tribe member Nathan Young.  Inspired by the Delaware saying\, “Our songs come from the wind”\, Young’s work fosters a deeper understanding of the tribe’s heritage and ancestral homeland\, Lenapehoking (known now as the Mid-Atlantic US) through sounds of wind\, water\, and wildlife.
URL:https://www.pennsburymanor.org/event/nathan-young-exhibit-opening/
LOCATION:PA
END:VEVENT
END:VCALENDAR