BEGIN:VCALENDAR
VERSION:2.0
PRODID:-//Pennsbury Manor - ECPv6.14.2//NONSGML v1.0//EN
CALSCALE:GREGORIAN
METHOD:PUBLISH
X-WR-CALNAME:Pennsbury Manor
X-ORIGINAL-URL:https://www.pennsburymanor.org
X-WR-CALDESC:Events for Pennsbury Manor
REFRESH-INTERVAL;VALUE=DURATION:PT1H
X-Robots-Tag:noindex
X-PUBLISHED-TTL:PT1H
BEGIN:VTIMEZONE
TZID:America/New_York
BEGIN:DAYLIGHT
TZOFFSETFROM:-0500
TZOFFSETTO:-0400
TZNAME:EDT
DTSTART:20220313T070000
END:DAYLIGHT
BEGIN:STANDARD
TZOFFSETFROM:-0400
TZOFFSETTO:-0500
TZNAME:EST
DTSTART:20221106T060000
END:STANDARD
END:VTIMEZONE
BEGIN:VEVENT
DTSTART;TZID=America/New_York:20221022T080000
DTEND;TZID=America/New_York:20221022T170000
DTSTAMP:20260423T160237
CREATED:20220121T174131Z
LAST-MODIFIED:20230913T132510Z
UID:4321-1666425600-1666458000@www.pennsburymanor.org
SUMMARY:Model Drawing Workshop
DESCRIPTION:Time TBD
URL:https://www.pennsburymanor.org/event/model-drawing-workshop/
LOCATION:PA
END:VEVENT
END:VCALENDAR