BEGIN:VCALENDAR
VERSION:2.0
PRODID:-//Pennsbury Manor - ECPv6.14.2//NONSGML v1.0//EN
CALSCALE:GREGORIAN
METHOD:PUBLISH
X-ORIGINAL-URL:https://www.pennsburymanor.org
X-WR-CALDESC:Events for Pennsbury Manor
REFRESH-INTERVAL;VALUE=DURATION:PT1H
X-Robots-Tag:noindex
X-PUBLISHED-TTL:PT1H
BEGIN:VTIMEZONE
TZID:America/New_York
BEGIN:DAYLIGHT
TZOFFSETFROM:-0500
TZOFFSETTO:-0400
TZNAME:EDT
DTSTART:20220313T070000
END:DAYLIGHT
BEGIN:STANDARD
TZOFFSETFROM:-0400
TZOFFSETTO:-0500
TZNAME:EST
DTSTART:20221106T060000
END:STANDARD
END:VTIMEZONE
BEGIN:VEVENT
DTSTART;TZID=America/New_York:20221010T080000
DTEND;TZID=America/New_York:20221010T170000
DTSTAMP:20260421T163213
CREATED:20220121T173902Z
LAST-MODIFIED:20230913T132510Z
UID:4318-1665388800-1665421200@www.pennsburymanor.org
SUMMARY:Indigenous Peoples Day
DESCRIPTION:Grounds use only from 10am – 5pm. No access to buildings (including restrooms).
URL:https://www.pennsburymanor.org/event/indigenous-peoples-day/
LOCATION:PA
END:VEVENT
END:VCALENDAR