BEGIN:VCALENDAR
VERSION:2.0
PRODID:-//Pennsbury Manor - ECPv6.14.2//NONSGML v1.0//EN
CALSCALE:GREGORIAN
METHOD:PUBLISH
X-ORIGINAL-URL:https://www.pennsburymanor.org
X-WR-CALDESC:Events for Pennsbury Manor
REFRESH-INTERVAL;VALUE=DURATION:PT1H
X-Robots-Tag:noindex
X-PUBLISHED-TTL:PT1H
BEGIN:VTIMEZONE
TZID:America/New_York
BEGIN:DAYLIGHT
TZOFFSETFROM:-0500
TZOFFSETTO:-0400
TZNAME:EDT
DTSTART:20220313T070000
END:DAYLIGHT
BEGIN:STANDARD
TZOFFSETFROM:-0400
TZOFFSETTO:-0500
TZNAME:EST
DTSTART:20221106T060000
END:STANDARD
END:VTIMEZONE
BEGIN:VEVENT
DTSTART;TZID=America/New_York:20220628T100000
DTEND;TZID=America/New_York:20220628T110000
DTSTAMP:20260420T002644
CREATED:20220510T134353Z
LAST-MODIFIED:20230913T132507Z
UID:4405-1656410400-1656414000@www.pennsburymanor.org
SUMMARY:Garden Workshop
DESCRIPTION:Propagation: Seeds & Cuttings\nOur Garden Workshops are an opportunity to learn from our expert gardener\, Jessye. Hosted every Tuesday during the summer from 10 – 11am\, each session will cover a different topic related to 17th- century gardening. Available for ages 12+\, $20 per session. Registration required – call 215-946-0400 to reserve your space today.
URL:https://www.pennsburymanor.org/event/garden-workshop-2/
LOCATION:PA
END:VEVENT
END:VCALENDAR