BEGIN:VCALENDAR
VERSION:2.0
PRODID:-//Pennsbury Manor - ECPv6.14.2//NONSGML v1.0//EN
CALSCALE:GREGORIAN
METHOD:PUBLISH
X-ORIGINAL-URL:https://www.pennsburymanor.org
X-WR-CALDESC:Events for Pennsbury Manor
REFRESH-INTERVAL;VALUE=DURATION:PT1H
X-Robots-Tag:noindex
X-PUBLISHED-TTL:PT1H
BEGIN:VTIMEZONE
TZID:America/New_York
BEGIN:DAYLIGHT
TZOFFSETFROM:-0500
TZOFFSETTO:-0400
TZNAME:EDT
DTSTART:20220313T070000
END:DAYLIGHT
BEGIN:STANDARD
TZOFFSETFROM:-0400
TZOFFSETTO:-0500
TZNAME:EST
DTSTART:20221106T060000
END:STANDARD
END:VTIMEZONE
BEGIN:VEVENT
DTSTART;TZID=America/New_York:20220405T123000
DTEND;TZID=America/New_York:20220405T153000
DTSTAMP:20260425T174705
CREATED:20220301T145526Z
LAST-MODIFIED:20230913T132508Z
UID:4367-1649161800-1649172600@www.pennsburymanor.org
SUMMARY:Homeschool Day
DESCRIPTION:Designed with family learning in mind\, Homeschool Day offers interactive and hands-on activities for learners of all ages.  Advance registration is preferred. Admission is $9 per person (age 4+)\, with one adult FREE per family group (Please note: this special program is not included in a Pennsbury Manor membership). \nEmail our Education Program Coordinator Kerry Scott at c-kerscott@pa.gov for more information.
URL:https://www.pennsburymanor.org/event/homeschool-day-3/
LOCATION:PA
END:VEVENT
END:VCALENDAR