BEGIN:VCALENDAR
VERSION:2.0
PRODID:-//Pennsbury Manor - ECPv6.14.2//NONSGML v1.0//EN
CALSCALE:GREGORIAN
METHOD:PUBLISH
X-WR-CALNAME:Pennsbury Manor
X-ORIGINAL-URL:https://www.pennsburymanor.org
X-WR-CALDESC:Events for Pennsbury Manor
REFRESH-INTERVAL;VALUE=DURATION:PT1H
X-Robots-Tag:noindex
X-PUBLISHED-TTL:PT1H
BEGIN:VTIMEZONE
TZID:America/New_York
BEGIN:DAYLIGHT
TZOFFSETFROM:-0500
TZOFFSETTO:-0400
TZNAME:EDT
DTSTART:20220313T070000
END:DAYLIGHT
BEGIN:STANDARD
TZOFFSETFROM:-0400
TZOFFSETTO:-0500
TZNAME:EST
DTSTART:20221106T060000
END:STANDARD
END:VTIMEZONE
BEGIN:VEVENT
DTSTART;TZID=America/New_York:20220625T160000
DTEND;TZID=America/New_York:20220625T200000
DTSTAMP:20260420T124637
CREATED:20220121T173315Z
LAST-MODIFIED:20230913T132511Z
UID:4312-1656172800-1656187200@www.pennsburymanor.org
SUMMARY:Brews and Bites
DESCRIPTION:This summertime celebration will feature local breweries from Bucks County and beyond\, along with live music\, food trucks\, 17th century brewing demonstrations\, and more. Pennsbury Manor is William Penn’s country estate on the Delaware River in Morrisville\, so come “tap into the past” as you enjoy a beautiful summer evening surrounded by Pennsylvania’s early history! \nClick here to purchase tickets.
URL:https://www.pennsburymanor.org/event/brews-and-bites/
ATTACH;FMTTYPE=image/png:https://www.pennsburymanor.org/wp-content/uploads/2022/01/BB-Insta-1.png
END:VEVENT
END:VCALENDAR